BEGIN:VCALENDAR
VERSION:2.0
PRODID:-//Uzazi Village - ECPv6.15.13//NONSGML v1.0//EN
CALSCALE:GREGORIAN
METHOD:PUBLISH
X-ORIGINAL-URL:https://uzazivillage.org
X-WR-CALDESC:Events for Uzazi Village
REFRESH-INTERVAL;VALUE=DURATION:PT1H
X-Robots-Tag:noindex
X-PUBLISHED-TTL:PT1H
BEGIN:VTIMEZONE
TZID:America/Chicago
BEGIN:DAYLIGHT
TZOFFSETFROM:-0600
TZOFFSETTO:-0500
TZNAME:CDT
DTSTART:20210314T080000
END:DAYLIGHT
BEGIN:STANDARD
TZOFFSETFROM:-0500
TZOFFSETTO:-0600
TZNAME:CST
DTSTART:20211107T070000
END:STANDARD
BEGIN:DAYLIGHT
TZOFFSETFROM:-0600
TZOFFSETTO:-0500
TZNAME:CDT
DTSTART:20220313T080000
END:DAYLIGHT
BEGIN:STANDARD
TZOFFSETFROM:-0500
TZOFFSETTO:-0600
TZNAME:CST
DTSTART:20221106T070000
END:STANDARD
BEGIN:DAYLIGHT
TZOFFSETFROM:-0600
TZOFFSETTO:-0500
TZNAME:CDT
DTSTART:20230312T080000
END:DAYLIGHT
BEGIN:STANDARD
TZOFFSETFROM:-0500
TZOFFSETTO:-0600
TZNAME:CST
DTSTART:20231105T070000
END:STANDARD
END:VTIMEZONE
BEGIN:VEVENT
DTSTART;TZID=America/Chicago:20220202T150000
DTEND;TZID=America/Chicago:20220202T170000
DTSTAMP:20260420T075315
CREATED:20211215T221838Z
LAST-MODIFIED:20211215T221838Z
UID:24292-1643814000-1643821200@uzazivillage.org
SUMMARY:Diaper Depot (MO Office)
DESCRIPTION:Missouri families join us for our curbside Diaper Depot to receive FREE diapers\, size N – 6\, by appointment only. \nPlease visit Calendly (https://calendly.com/uzazivillagekcmo/diaper-depot-drive-thru?month=2021-08) to schedule a diaper pick up time.
URL:https://uzazivillage.org/event/diaper-depot-mo-office-18/
LOCATION:Uzazi Village (MO Office)\, 4232 Troost Ave.\, Kansas City\, MO\, 64110\, United States
CATEGORIES:Diaper Depot
ORGANIZER;CN="Uzazi Village":MAILTO:info@uzazivillage.org
END:VEVENT
BEGIN:VEVENT
DTSTART;TZID=America/Chicago:20220209T150000
DTEND;TZID=America/Chicago:20220209T170000
DTSTAMP:20260420T075315
CREATED:20220112T153706Z
LAST-MODIFIED:20220112T153706Z
UID:24336-1644418800-1644426000@uzazivillage.org
SUMMARY:Diaper Depot (KS Office)
DESCRIPTION:Kansas families join us for our curbside Diaper Depot to receive FREE diapers\, size N – 6\, by appointment only. \nPlease call our KS office at (913) 980-2779**\, Mon/Wed/Fri between 9am – 5pm and Tues 9am – 3pm to schedule a diaper pick up time. \n**Hablo Español
URL:https://uzazivillage.org/event/diaper-depot-ks-office-17/
LOCATION:Uzazi Village (KS Office)\, 1234 State Ave.\, Kansas City\, KS\, 66102\, United States
CATEGORIES:Diaper Depot
ORGANIZER;CN="Uzazi Village":MAILTO:info@uzazivillage.org
END:VEVENT
BEGIN:VEVENT
DTSTART;TZID=America/Chicago:20220216T150000
DTEND;TZID=America/Chicago:20220216T170000
DTSTAMP:20260420T075315
CREATED:20211215T221922Z
LAST-MODIFIED:20211215T221922Z
UID:24297-1645023600-1645030800@uzazivillage.org
SUMMARY:Diaper Depot (MO Office)
DESCRIPTION:Missouri families join us for our curbside Diaper Depot to receive FREE diapers\, size N – 6\, by appointment only. \nPlease visit Calendly (https://calendly.com/uzazivillagekcmo/diaper-depot-drive-thru?month=2021-08) to schedule a diaper pick up time.
URL:https://uzazivillage.org/event/diaper-depot-mo-office-19/
LOCATION:Uzazi Village (MO Office)\, 4232 Troost Ave.\, Kansas City\, MO\, 64110\, United States
CATEGORIES:Diaper Depot
ORGANIZER;CN="Uzazi Village":MAILTO:info@uzazivillage.org
END:VEVENT
BEGIN:VEVENT
DTSTART;TZID=America/Chicago:20220223T150000
DTEND;TZID=America/Chicago:20220223T170000
DTSTAMP:20260420T075315
CREATED:20220112T153729Z
LAST-MODIFIED:20220112T153729Z
UID:24337-1645628400-1645635600@uzazivillage.org
SUMMARY:Diaper Depot (KS Office)
DESCRIPTION:Kansas families join us for our curbside Diaper Depot to receive FREE diapers\, size N – 6\, by appointment only. \nPlease call our KS office at (913) 980-2779**\, Mon/Wed/Fri between 9am – 5pm and Tues 9am – 3pm to schedule a diaper pick up time. \n**Hablo Español
URL:https://uzazivillage.org/event/diaper-depot-ks-office-18/
LOCATION:Uzazi Village (KS Office)\, 1234 State Ave.\, Kansas City\, KS\, 66102\, United States
CATEGORIES:Diaper Depot
ORGANIZER;CN="Uzazi Village":MAILTO:info@uzazivillage.org
END:VEVENT
END:VCALENDAR