BEGIN:VCALENDAR
VERSION:2.0
PRODID:-//Uzazi Village - ECPv6.15.13//NONSGML v1.0//EN
CALSCALE:GREGORIAN
METHOD:PUBLISH
X-WR-CALNAME:Uzazi Village
X-ORIGINAL-URL:https://uzazivillage.org
X-WR-CALDESC:Events for Uzazi Village
REFRESH-INTERVAL;VALUE=DURATION:PT1H
X-Robots-Tag:noindex
X-PUBLISHED-TTL:PT1H
BEGIN:VTIMEZONE
TZID:UTC
BEGIN:STANDARD
TZOFFSETFROM:+0000
TZOFFSETTO:+0000
TZNAME:UTC
DTSTART:20210101T000000
END:STANDARD
END:VTIMEZONE
BEGIN:VEVENT
DTSTART;TZID=UTC:20221214T090000
DTEND;TZID=UTC:20221214T170000
DTSTAMP:20260420T054259
CREATED:20221214T193102Z
LAST-MODIFIED:20221214T193102Z
UID:24682-1671008400-1671037200@uzazivillage.org
SUMMARY:3rd Session: Winter Perinatal Doula Training
DESCRIPTION:Contact ameenah@uzazivillage.org for more details.
URL:https://uzazivillage.org/event/3rd-session-winter-perinatal-doula-training/
LOCATION:Uzazi Village (MO Office)\, 4232 Troost Ave.\, Kansas City\, MO\, 64110\, United States
CATEGORIES:Doula Training
ORGANIZER;CN="Uzazi Village":MAILTO:info@uzazivillage.org
END:VEVENT
END:VCALENDAR