BEGIN:VCALENDAR
VERSION:2.0
PRODID:-//Uzazi Village - ECPv6.15.13//NONSGML v1.0//EN
CALSCALE:GREGORIAN
METHOD:PUBLISH
X-ORIGINAL-URL:https://uzazivillage.org
X-WR-CALDESC:Events for Uzazi Village
REFRESH-INTERVAL;VALUE=DURATION:PT1H
X-Robots-Tag:noindex
X-PUBLISHED-TTL:PT1H
BEGIN:VTIMEZONE
TZID:UTC
BEGIN:STANDARD
TZOFFSETFROM:+0000
TZOFFSETTO:+0000
TZNAME:UTC
DTSTART:20220101T000000
END:STANDARD
END:VTIMEZONE
BEGIN:VEVENT
DTSTART;TZID=UTC:20230407T160000
DTEND;TZID=UTC:20230407T170000
DTSTAMP:20260425T121901
CREATED:20231107T100044Z
LAST-MODIFIED:20230313T163225Z
UID:24538-1680883200-1680886800@uzazivillage.org
SUMMARY:Ida Mae Center Virtual Orientation
DESCRIPTION:Are you a new client to the Ida Mae Center and need onboarding? \nEvery first Friday of the month\, we bring our new care participants together to go over everything you need to know before beginning with your cohort! \nMeeting Link:\nhttps://us02web.zoom.us/meeting/tZUlf-2przwuE9Eqv3mwvfqitn1zij8aW4wF/ics?icsToken=98tyKuGppjMuG9WStBCCRpwcGoqgLOvzmGZbj_p4jQm2DjdFZBL_IuwTKLt1SNnn
URL:https://uzazivillage.org/event/ida-mae-center-virtual-orientation-5/
CATEGORIES:Ida Mae Patterson Clinic Events
END:VEVENT
END:VCALENDAR